BEGIN:VCALENDAR
VERSION:2.0
PRODID:-//BFA Fine Arts - ECPv6.15.20//NONSGML v1.0//EN
CALSCALE:GREGORIAN
METHOD:PUBLISH
X-ORIGINAL-URL:https://bfafinearts.sva.edu
X-WR-CALDESC:Events for BFA Fine Arts
REFRESH-INTERVAL;VALUE=DURATION:PT1H
X-Robots-Tag:noindex
X-PUBLISHED-TTL:PT1H
BEGIN:VTIMEZONE
TZID:America/New_York
BEGIN:DAYLIGHT
TZOFFSETFROM:-0500
TZOFFSETTO:-0400
TZNAME:EDT
DTSTART:20210314T070000
END:DAYLIGHT
BEGIN:STANDARD
TZOFFSETFROM:-0400
TZOFFSETTO:-0500
TZNAME:EST
DTSTART:20211107T060000
END:STANDARD
BEGIN:DAYLIGHT
TZOFFSETFROM:-0500
TZOFFSETTO:-0400
TZNAME:EDT
DTSTART:20220313T070000
END:DAYLIGHT
BEGIN:STANDARD
TZOFFSETFROM:-0400
TZOFFSETTO:-0500
TZNAME:EST
DTSTART:20221106T060000
END:STANDARD
BEGIN:DAYLIGHT
TZOFFSETFROM:-0500
TZOFFSETTO:-0400
TZNAME:EDT
DTSTART:20230312T070000
END:DAYLIGHT
BEGIN:STANDARD
TZOFFSETFROM:-0400
TZOFFSETTO:-0500
TZNAME:EST
DTSTART:20231105T060000
END:STANDARD
BEGIN:DAYLIGHT
TZOFFSETFROM:-0500
TZOFFSETTO:-0400
TZNAME:EDT
DTSTART:20240310T070000
END:DAYLIGHT
BEGIN:STANDARD
TZOFFSETFROM:-0400
TZOFFSETTO:-0500
TZNAME:EST
DTSTART:20241103T060000
END:STANDARD
BEGIN:DAYLIGHT
TZOFFSETFROM:-0500
TZOFFSETTO:-0400
TZNAME:EDT
DTSTART:20250309T070000
END:DAYLIGHT
BEGIN:STANDARD
TZOFFSETFROM:-0400
TZOFFSETTO:-0500
TZNAME:EST
DTSTART:20251102T060000
END:STANDARD
BEGIN:DAYLIGHT
TZOFFSETFROM:-0500
TZOFFSETTO:-0400
TZNAME:EDT
DTSTART:20260308T070000
END:DAYLIGHT
BEGIN:STANDARD
TZOFFSETFROM:-0400
TZOFFSETTO:-0500
TZNAME:EST
DTSTART:20261101T060000
END:STANDARD
BEGIN:DAYLIGHT
TZOFFSETFROM:-0500
TZOFFSETTO:-0400
TZNAME:EDT
DTSTART:20270314T070000
END:DAYLIGHT
BEGIN:STANDARD
TZOFFSETFROM:-0400
TZOFFSETTO:-0500
TZNAME:EST
DTSTART:20271107T060000
END:STANDARD
END:VTIMEZONE
BEGIN:VEVENT
DTSTART;TZID=America/New_York:20260217T180000
DTEND;TZID=America/New_York:20260217T200000
DTSTAMP:20260425T144753
CREATED:20260204T194802Z
LAST-MODIFIED:20260204T194802Z
UID:11259-1771351200-1771358400@bfafinearts.sva.edu
SUMMARY:Opening Reception of "Unhinged"
DESCRIPTION:
URL:https://bfafinearts.sva.edu/event/opening-reception-of-unhinged/
LOCATION:SVA Chelsea Gallery\, 601 W 26th Street\, 15th Floor\, New York\, NY\, 10011\, United States
CATEGORIES:Reception
ATTACH;FMTTYPE=image/jpeg:https://bfafinearts.sva.edu/wp-content/uploads/Poster-Dalia.jpg
END:VEVENT
BEGIN:VEVENT
DTSTART;TZID=America/New_York:20260209T190000
DTEND;TZID=America/New_York:20260209T200000
DTSTAMP:20260425T144753
CREATED:20260204T194555Z
LAST-MODIFIED:20260204T194555Z
UID:11256-1770663600-1770667200@bfafinearts.sva.edu
SUMMARY:Visiting Artist Lecture: Ami Lien
DESCRIPTION:
URL:https://bfafinearts.sva.edu/event/visiting-artist-lecture-ami-lien/
LOCATION:SVA Fine Arts Building\, 335 W 16th St.\, New York\, NY\, 10011\, United States
CATEGORIES:Lecture
ATTACH;FMTTYPE=image/jpeg:https://bfafinearts.sva.edu/wp-content/uploads/Ami-Lien-2026.jpg
END:VEVENT
BEGIN:VEVENT
DTSTART;TZID=America/New_York:20251007T180000
DTEND;TZID=America/New_York:20251007T200000
DTSTAMP:20260425T144753
CREATED:20251015T145633Z
LAST-MODIFIED:20251015T145633Z
UID:11236-1759860000-1759867200@bfafinearts.sva.edu
SUMMARY:Opening Reception of "Mindscapes in Painting"
DESCRIPTION:
URL:https://bfafinearts.sva.edu/event/opening-reception-of-mindscapes-in-painting/
LOCATION:SVA Fine Arts Building\, 335 W 16th St.\, New York\, NY\, 10011\, United States
CATEGORIES:Reception
ATTACH;FMTTYPE=image/jpeg:https://bfafinearts.sva.edu/wp-content/uploads/mindscapes-poster.jpg
END:VEVENT
BEGIN:VEVENT
DTSTART;TZID=America/New_York:20251007T180000
DTEND;TZID=America/New_York:20251007T200000
DTSTAMP:20260425T144753
CREATED:20251015T145452Z
LAST-MODIFIED:20251015T145452Z
UID:11233-1759860000-1759867200@bfafinearts.sva.edu
SUMMARY:Opening Reception of "Video Now"
DESCRIPTION:
URL:https://bfafinearts.sva.edu/event/opening-reception-of-video-now/
LOCATION:SVA Fine Arts Building\, 335 W 16th St.\, New York\, NY\, 10011\, United States
CATEGORIES:Reception
ATTACH;FMTTYPE=image/jpeg:https://bfafinearts.sva.edu/wp-content/uploads/videonow-poster.jpg
END:VEVENT
BEGIN:VEVENT
DTSTART;TZID=America/New_York:20251006T190000
DTEND;TZID=America/New_York:20251006T200000
DTSTAMP:20260425T144753
CREATED:20251006T182615Z
LAST-MODIFIED:20251006T182615Z
UID:11229-1759777200-1759780800@bfafinearts.sva.edu
SUMMARY:Visiting Artist Lecture: Joyce Kozloff
DESCRIPTION:
URL:https://bfafinearts.sva.edu/event/visiting-artist-lecture-joyce-kozloff/
LOCATION:SVA Fine Arts Building\, 335 W 16th St.\, New York\, NY\, 10011\, United States
ATTACH;FMTTYPE=image/jpeg:https://bfafinearts.sva.edu/wp-content/uploads/Joyce-Kozloff-Fall-2025.jpg
END:VEVENT
BEGIN:VEVENT
DTSTART;TZID=America/New_York:20250505T180000
DTEND;TZID=America/New_York:20250505T200000
DTSTAMP:20260425T144753
CREATED:20250501T144101Z
LAST-MODIFIED:20250501T144101Z
UID:11214-1746468000-1746475200@bfafinearts.sva.edu
SUMMARY:2025 Spring Open Studios
DESCRIPTION:
URL:https://bfafinearts.sva.edu/event/2025-spring-open-studios/
LOCATION:SVA Fine Arts Building\, 335 W 16th St.\, New York\, NY\, 10011\, United States
CATEGORIES:Open Studios
ATTACH;FMTTYPE=image/jpeg:https://bfafinearts.sva.edu/wp-content/uploads/spring-2025-open-studios.jpg
END:VEVENT
BEGIN:VEVENT
DTSTART;TZID=America/New_York:20250203T190000
DTEND;TZID=America/New_York:20250203T200000
DTSTAMP:20260425T144753
CREATED:20250128T154404Z
LAST-MODIFIED:20250128T154404Z
UID:11204-1738609200-1738612800@bfafinearts.sva.edu
SUMMARY:Visiting Artist Lecture: Kon Trubkovich
DESCRIPTION:
URL:https://bfafinearts.sva.edu/event/visiting-artist-lecture-kon-trubkovich/
LOCATION:NY
ATTACH;FMTTYPE=image/jpeg:https://bfafinearts.sva.edu/wp-content/uploads/Kon-Trubkovich-Spring-2025.jpg
END:VEVENT
BEGIN:VEVENT
DTSTART;TZID=America/New_York:20241209T180000
DTEND;TZID=America/New_York:20241209T200000
DTSTAMP:20260425T144753
CREATED:20241205T155424Z
LAST-MODIFIED:20241205T155452Z
UID:11197-1733767200-1733774400@bfafinearts.sva.edu
SUMMARY:2024 Fall Open Studios
DESCRIPTION:
URL:https://bfafinearts.sva.edu/event/fall-2024-open-studios/
LOCATION:NY
CATEGORIES:Open Studios
ATTACH;FMTTYPE=image/jpeg:https://bfafinearts.sva.edu/wp-content/uploads/fall-2024-open-studios-1.jpg
END:VEVENT
BEGIN:VEVENT
DTSTART;TZID=America/New_York:20241118T190000
DTEND;TZID=America/New_York:20241118T200000
DTSTAMP:20260425T144753
CREATED:20241205T155303Z
LAST-MODIFIED:20241205T155303Z
UID:11194-1731956400-1731960000@bfafinearts.sva.edu
SUMMARY:Visiting Artist Lecture: Simon Benjamin
DESCRIPTION:
URL:https://bfafinearts.sva.edu/event/visiting-artist-lecture-simon-benjamin/
LOCATION:SVA Fine Arts Building\, 335 W 16th St.\, New York\, NY\, 10011\, United States
CATEGORIES:Lecture
ATTACH;FMTTYPE=image/jpeg:https://bfafinearts.sva.edu/wp-content/uploads/Simon-Benjamin-Fall-2024.jpg
END:VEVENT
BEGIN:VEVENT
DTSTART;TZID=America/New_York:20241003T180000
DTEND;TZID=America/New_York:20241003T200000
DTSTAMP:20260425T144753
CREATED:20241003T144501Z
LAST-MODIFIED:20241003T144501Z
UID:11184-1727978400-1727985600@bfafinearts.sva.edu
SUMMARY:Opening Reception of "Support/Surface Redux"
DESCRIPTION:
URL:https://bfafinearts.sva.edu/event/opening-reception-of-support-surface-redux/
LOCATION:SVA Flatiron Gallery\, 133/141 West 21st Street\, New York\, NY\, 10011\, United States
CATEGORIES:Reception
ATTACH;FMTTYPE=image/jpeg:https://bfafinearts.sva.edu/wp-content/uploads/flatiron-exhibit-2024.jpg
END:VEVENT
BEGIN:VEVENT
DTSTART;TZID=America/New_York:20240916T190000
DTEND;TZID=America/New_York:20240916T200000
DTSTAMP:20260425T144753
CREATED:20240904T143426Z
LAST-MODIFIED:20240904T143426Z
UID:11180-1726513200-1726516800@bfafinearts.sva.edu
SUMMARY:Visiting Artist Lecture: Suzanne Anker
DESCRIPTION:
URL:https://bfafinearts.sva.edu/event/visiting-artist-lecture-suzanne-anker/
LOCATION:SVA Fine Arts Building\, 335 W 16th St.\, New York\, NY\, 10011\, United States
CATEGORIES:Lecture
ATTACH;FMTTYPE=image/jpeg:https://bfafinearts.sva.edu/wp-content/uploads/Suzanne-Anker.jpg
END:VEVENT
BEGIN:VEVENT
DTSTART;TZID=America/New_York:20240506T180000
DTEND;TZID=America/New_York:20240506T210000
DTSTAMP:20260425T144753
CREATED:20240422T145955Z
LAST-MODIFIED:20240422T145955Z
UID:11168-1715018400-1715029200@bfafinearts.sva.edu
SUMMARY:2024 Spring Open Studios
DESCRIPTION:
URL:https://bfafinearts.sva.edu/event/2024-spring-open-studios/
LOCATION:SVA Fine Arts Building\, 335 W 16th St.\, New York\, NY\, 10011\, United States
CATEGORIES:Open Studios
ATTACH;FMTTYPE=image/jpeg:https://bfafinearts.sva.edu/wp-content/uploads/spring-2024-open-studios.jpg
END:VEVENT
BEGIN:VEVENT
DTSTART;TZID=America/New_York:20240325T190000
DTEND;TZID=America/New_York:20240325T200000
DTSTAMP:20260425T144753
CREATED:20240325T150323Z
LAST-MODIFIED:20240325T150323Z
UID:11163-1711393200-1711396800@bfafinearts.sva.edu
SUMMARY:Visiting Artist Lecture: Kenny Rivero
DESCRIPTION:
URL:https://bfafinearts.sva.edu/event/visiting-artist-lecture-kenny-rivero/
LOCATION:SVA Fine Arts Building\, 335 W 16th St.\, New York\, NY\, 10011\, United States
ATTACH;FMTTYPE=image/jpeg:https://bfafinearts.sva.edu/wp-content/uploads/kenny-rivero.jpg
END:VEVENT
BEGIN:VEVENT
DTSTART;TZID=America/New_York:20240208T060000
DTEND;TZID=America/New_York:20240208T200000
DTSTAMP:20260425T144753
CREATED:20240131T160532Z
LAST-MODIFIED:20240131T160532Z
UID:11156-1707372000-1707422400@bfafinearts.sva.edu
SUMMARY:Opening Reception of "From Nature to Culture"
DESCRIPTION:
URL:https://bfafinearts.sva.edu/event/opening-reception-of-from-nature-to-culture/
LOCATION:NY
CATEGORIES:Reception
ATTACH;FMTTYPE=image/jpeg:https://bfafinearts.sva.edu/wp-content/uploads/spring-2024-chelsea-gallery-02.jpg
END:VEVENT
BEGIN:VEVENT
DTSTART;TZID=America/New_York:20240205T190000
DTEND;TZID=America/New_York:20240205T200000
DTSTAMP:20260425T144753
CREATED:20240131T153827Z
LAST-MODIFIED:20240131T153827Z
UID:11149-1707159600-1707163200@bfafinearts.sva.edu
SUMMARY:Visiting Artist Lecture: Midori Yoshimoto
DESCRIPTION:
URL:https://bfafinearts.sva.edu/event/visiting-artist-lecture-midori-yoshimoto/
LOCATION:NY
ATTACH;FMTTYPE=image/jpeg:https://bfafinearts.sva.edu/wp-content/uploads/midori-yoshimoto-poster.jpg
END:VEVENT
BEGIN:VEVENT
DTSTART;TZID=America/New_York:20231211T180000
DTEND;TZID=America/New_York:20231211T210000
DTSTAMP:20260425T144753
CREATED:20231129T182249Z
LAST-MODIFIED:20231129T182324Z
UID:11134-1702317600-1702328400@bfafinearts.sva.edu
SUMMARY:2023 Fall Open Studios
DESCRIPTION:
URL:https://bfafinearts.sva.edu/event/fall-2023-open-studios/
LOCATION:NY
ATTACH;FMTTYPE=image/jpeg:https://bfafinearts.sva.edu/wp-content/uploads/fall23-open-studios.jpg
END:VEVENT
BEGIN:VEVENT
DTSTART;TZID=America/New_York:20231030T080000
DTEND;TZID=America/New_York:20231030T170000
DTSTAMP:20260425T144753
CREATED:20231030T135550Z
LAST-MODIFIED:20231030T135550Z
UID:11130-1698652800-1698685200@bfafinearts.sva.edu
SUMMARY:Visiting Artist Lecture: Mithu Sen
DESCRIPTION:
URL:https://bfafinearts.sva.edu/event/visiting-artist-lecture-mithu-sen/
LOCATION:NY
CATEGORIES:Lecture
ATTACH;FMTTYPE=image/jpeg:https://bfafinearts.sva.edu/wp-content/uploads/Mithu-Sen-web.jpg
END:VEVENT
BEGIN:VEVENT
DTSTART;TZID=America/New_York:20231011T060000
DTEND;TZID=America/New_York:20231011T200000
DTSTAMP:20260425T144753
CREATED:20231019T135235Z
LAST-MODIFIED:20231019T135425Z
UID:11120-1697004000-1697054400@bfafinearts.sva.edu
SUMMARY:Opening Reception of "Re:Presentation"
DESCRIPTION:
URL:https://bfafinearts.sva.edu/event/opening-reception-of-representation/
LOCATION:SVA Flatiron Gallery\, 133/141 West 21st Street\, New York\, NY\, 10011\, United States
CATEGORIES:Reception
ATTACH;FMTTYPE=image/jpeg:https://bfafinearts.sva.edu/wp-content/uploads/fall-2023-flatiron-gallery.jpg
END:VEVENT
BEGIN:VEVENT
DTSTART;TZID=America/New_York:20231005T190000
DTEND;TZID=America/New_York:20231005T200000
DTSTAMP:20260425T144753
CREATED:20230913T135917Z
LAST-MODIFIED:20230913T135917Z
UID:11112-1696532400-1696536000@bfafinearts.sva.edu
SUMMARY:Visiting Artist Lecture: Suzaan Boettger
DESCRIPTION:
URL:https://bfafinearts.sva.edu/event/visiting-artist-lecture-suzaan-boettger/
LOCATION:SVA Amphitheater\, 209 E 23rd St\, New York\, NY\, 10010\, United States
ATTACH;FMTTYPE=image/jpeg:https://bfafinearts.sva.edu/wp-content/uploads/Suzaan-Boettger-01.jpg
END:VEVENT
BEGIN:VEVENT
DTSTART;TZID=America/New_York:20230501T180000
DTEND;TZID=America/New_York:20230501T210000
DTSTAMP:20260425T144753
CREATED:20230413T133508Z
LAST-MODIFIED:20230413T133508Z
UID:10977-1682964000-1682974800@bfafinearts.sva.edu
SUMMARY:2023 Spring Open Studios
DESCRIPTION:
URL:https://bfafinearts.sva.edu/event/2023-spring-open-studios/
LOCATION:SVA Fine Arts Building\, 335 W 16th St.\, New York\, NY\, 10011\, United States
CATEGORIES:Open Studios
ATTACH;FMTTYPE=image/jpeg:https://bfafinearts.sva.edu/wp-content/uploads/spring23-open-studios.jpg
END:VEVENT
BEGIN:VEVENT
DTSTART;TZID=America/New_York:20230327T190000
DTEND;TZID=America/New_York:20230327T200000
DTSTAMP:20260425T144753
CREATED:20230323T133612Z
LAST-MODIFIED:20230323T133612Z
UID:10946-1679943600-1679947200@bfafinearts.sva.edu
SUMMARY:Visiting Artist Lecture: Erin M. Riley
DESCRIPTION:
URL:https://bfafinearts.sva.edu/event/visiting-artist-lecture-erin-m-riley/
LOCATION:Zoom
CATEGORIES:Lecture
ATTACH;FMTTYPE=image/jpeg:https://bfafinearts.sva.edu/wp-content/uploads/Erin-M-Riley-Event.jpg
END:VEVENT
BEGIN:VEVENT
DTSTART;TZID=America/New_York:20230209T180000
DTEND;TZID=America/New_York:20230209T200000
DTSTAMP:20260425T144753
CREATED:20230202T151051Z
LAST-MODIFIED:20230202T151051Z
UID:10907-1675965600-1675972800@bfafinearts.sva.edu
SUMMARY:Opening Reception of "From Here to There"
DESCRIPTION:
URL:https://bfafinearts.sva.edu/event/opening-reception-of-from-here-to-there/
LOCATION:SVA Chelsea Gallery\, 601 W 26th Street\, 15th Floor\, New York\, NY\, 10011\, United States
CATEGORIES:Reception
ATTACH;FMTTYPE=image/jpeg:https://bfafinearts.sva.edu/wp-content/uploads/spring-2023-chelsea-gallery-2.jpg
END:VEVENT
BEGIN:VEVENT
DTSTART;TZID=America/New_York:20230209T180000
DTEND;TZID=America/New_York:20230209T200000
DTSTAMP:20260425T144753
CREATED:20230202T150753Z
LAST-MODIFIED:20230202T150848Z
UID:10905-1675965600-1675972800@bfafinearts.sva.edu
SUMMARY:Opening Reception of "Prompt Response: Fusion of Forms"
DESCRIPTION:
URL:https://bfafinearts.sva.edu/event/opening-reception-of-prompt-response-fusion-of-forms/
LOCATION:SVA Chelsea Gallery\, 601 W 26th Street\, 15th Floor\, New York\, NY\, 10011\, United States
CATEGORIES:Reception
ATTACH;FMTTYPE=image/jpeg:https://bfafinearts.sva.edu/wp-content/uploads/spring-2023-chelsea-gallery-4.jpg
END:VEVENT
BEGIN:VEVENT
DTSTART;TZID=America/New_York:20230209T180000
DTEND;TZID=America/New_York:20230209T200000
DTSTAMP:20260425T144753
CREATED:20230202T150537Z
LAST-MODIFIED:20230202T150835Z
UID:10903-1675965600-1675972800@bfafinearts.sva.edu
SUMMARY:Opening Reception of "Hanging by a Thread"
DESCRIPTION:
URL:https://bfafinearts.sva.edu/event/opening-reception-of-hanging-by-a-thread/
LOCATION:SVA Chelsea Gallery\, 601 W 26th Street\, 15th Floor\, New York\, NY\, 10011\, United States
CATEGORIES:Reception
ATTACH;FMTTYPE=image/jpeg:https://bfafinearts.sva.edu/wp-content/uploads/spring-2023-chelsea-gallery-1.jpg
END:VEVENT
BEGIN:VEVENT
DTSTART;TZID=America/New_York:20230209T180000
DTEND;TZID=America/New_York:20230209T200000
DTSTAMP:20260425T144753
CREATED:20230202T150317Z
LAST-MODIFIED:20230202T150819Z
UID:10901-1675965600-1675972800@bfafinearts.sva.edu
SUMMARY:Opening Reception of "Shades of Darkness"
DESCRIPTION:
URL:https://bfafinearts.sva.edu/event/opening-reception-of-shades-of-darkness/
LOCATION:SVA Chelsea Gallery\, 601 W 26th Street\, 15th Floor\, New York\, NY\, 10011\, United States
CATEGORIES:Reception
ATTACH;FMTTYPE=image/jpeg:https://bfafinearts.sva.edu/wp-content/uploads/spring-2023-chelsea-gallery-3.jpg
END:VEVENT
BEGIN:VEVENT
DTSTART;TZID=America/New_York:20230206T190000
DTEND;TZID=America/New_York:20230206T200000
DTSTAMP:20260425T144753
CREATED:20230119T145136Z
LAST-MODIFIED:20230119T145136Z
UID:10889-1675710000-1675713600@bfafinearts.sva.edu
SUMMARY:Visiting Artist Lecture: Adebunmi Gbadebo
DESCRIPTION:
URL:https://bfafinearts.sva.edu/event/visiting-artist-lecture-adebunmi-gbadebo/
LOCATION:NY
CATEGORIES:Lecture
ATTACH;FMTTYPE=image/jpeg:https://bfafinearts.sva.edu/wp-content/uploads/Adebunmi-Gbadeo.jpg
END:VEVENT
BEGIN:VEVENT
DTSTART;TZID=America/New_York:20221212T180000
DTEND;TZID=America/New_York:20221212T210000
DTSTAMP:20260425T144753
CREATED:20221208T181600Z
LAST-MODIFIED:20221208T181600Z
UID:10884-1670868000-1670878800@bfafinearts.sva.edu
SUMMARY:2022 Fall Open Studios
DESCRIPTION:
URL:https://bfafinearts.sva.edu/event/2022-fall-open-studios/
LOCATION:SVA Fine Arts Building\, 335 W 16th St.\, New York\, NY\, 10011\, United States
CATEGORIES:Open Studios
ATTACH;FMTTYPE=image/jpeg:https://bfafinearts.sva.edu/wp-content/uploads/fall22-open-studios.jpg
END:VEVENT
BEGIN:VEVENT
DTSTART;TZID=America/New_York:20221121T190000
DTEND;TZID=America/New_York:20221121T200000
DTSTAMP:20260425T144753
CREATED:20221028T134837Z
LAST-MODIFIED:20230220T192955Z
UID:10876-1669057200-1669060800@bfafinearts.sva.edu
SUMMARY:Visiting Artist Lecture: Thao Nguyen Phan
DESCRIPTION:
URL:https://bfafinearts.sva.edu/event/visiting-artist-lecture-thao-nguyen-phan/
LOCATION:Zoom
CATEGORIES:Lecture
ATTACH;FMTTYPE=image/jpeg:https://bfafinearts.sva.edu/wp-content/uploads/Thao-Nguyen-Phan-web.jpg
END:VEVENT
BEGIN:VEVENT
DTSTART;TZID=America/New_York:20221003T190000
DTEND;TZID=America/New_York:20221003T200000
DTSTAMP:20260425T144753
CREATED:20220921T144049Z
LAST-MODIFIED:20220921T144049Z
UID:10837-1664823600-1664827200@bfafinearts.sva.edu
SUMMARY:Visiting Artist Lecture: Kameelah Janan Rasheed
DESCRIPTION:
URL:https://bfafinearts.sva.edu/event/visiting-artist-lecture-kameelah-janan-rasheed/
LOCATION:Zoom
CATEGORIES:Lecture
ATTACH;FMTTYPE=image/jpeg:https://bfafinearts.sva.edu/wp-content/uploads/Kameelah-Janan-Rasheed-Web.jpg
END:VEVENT
BEGIN:VEVENT
DTSTART;TZID=America/New_York:20220928T180000
DTEND;TZID=America/New_York:20220928T200000
DTSTAMP:20260425T144753
CREATED:20220912T172608Z
LAST-MODIFIED:20220912T172608Z
UID:10833-1664388000-1664395200@bfafinearts.sva.edu
SUMMARY:Opening Reception of Darwin's Paradox
DESCRIPTION:
URL:https://bfafinearts.sva.edu/event/opening-reception-of-darwins-paradox/
LOCATION:SVA 133 W21 St\, 133 West 21 St\, New York\, 10011\, United States
CATEGORIES:Reception
ATTACH;FMTTYPE=image/jpeg:https://bfafinearts.sva.edu/wp-content/uploads/Darwins-Paradox-Poster.jpg
END:VEVENT
END:VCALENDAR